OziExplorer Map Data File Version 2.1
Brodnica.jpg
C:\OziExplorer\Maps\Brodnica.jpg
1 TIFF scale factor
WGS 84,WGS 84, 0.0000, 0.0000,WGS 84
Reserved 1
Reserved 2
Magnetic Variation,,,E
Map Projection,Latitude/Longitude,PolyCal,No,AutoCalOnly,No,BSBUseWPX,No
Point01,xy, 1283, 1474,in, deg, 53,15.59634,N, 19,23.64552,E, grid, , , ,N
Point02,xy, 1417, 2217,in, deg, 53, 14.7405,N, 19,23.88348,E, grid, , , ,N
Point03,xy, 1717, 2305,in, deg, 53, 14.6358,N, 19,24.42294,E, grid, , , ,N
Point04,xy, 1947, 2128,in, deg, 53, 14.7996,N, 19,24.82416,E, grid, , , ,N
Point05,xy, 1820, 1028,in, deg, 53,16.08264,N, 19,24.76956,E, grid, , , ,N
Point06,xy, 1486, 1960,in, deg, 53,15.05736,N, 19,24.03198,E, grid, , , ,N
Point07,xy, , ,in, deg, , ,N, , ,E, grid, , , ,N
Point08,xy, , ,in, deg, , ,N, , ,E, grid, , , ,N
Point09,xy, , ,in, deg, , ,N, , ,E, grid, , , ,N
Point10,xy, , ,in, deg, , ,, , ,, grid, , , ,
Point11,xy, , ,in, deg, , ,, , ,, grid, , , ,
Point12,xy, , ,in, deg, , ,, , ,, grid, , , ,
Point13,xy, , ,in, deg, , ,, , ,, grid, , , ,
Point14,xy, , ,in, deg, , ,, , ,, grid, , , ,
Point15,xy, , ,in, deg, , ,, , ,, grid, , , ,
Point16,xy, , ,in, deg, , ,, , ,, grid, , , ,
Point17,xy, , ,in, deg, , ,, , ,, grid, , , ,
Point18,xy, , ,in, deg, , ,, , ,, grid, , , ,
Point19,xy, , ,in, deg, , ,, , ,, grid, , , ,
Point20,xy, , ,in, deg, , ,, , ,, grid, , , ,
Point21,xy, , ,in, deg, , ,, , ,, grid, , , ,
Point22,xy, , ,in, deg, , ,, , ,, grid, , , ,
Point23,xy, , ,in, deg, , ,, , ,, grid, , , ,
Point24,xy, , ,in, deg, , ,, , ,, grid, , , ,
Point25,xy, , ,in, deg, , ,, , ,, grid, , , ,
Point26,xy, , ,in, deg, , ,, , ,, grid, , , ,
Point27,xy, , ,in, deg, , ,, , ,, grid, , , ,
Point28,xy, , ,in, deg, , ,, , ,, grid, , , ,
Point29,xy, , ,in, deg, , ,, , ,, grid, , , ,
Point30,xy, , ,in, deg, , ,, , ,, grid, , , ,
Projection Setup,,,,,,,,,,
Map Feature = MF ; Map Comment = MC These follow if they exist
Track File = TF These follow if they exist
Moving Map Parameters = MM? These follow if they exist
MM0,Yes
MMPNUM,4
MMPXY,1,0,0
MMPXY,2,3281,0
MMPXY,3,3281,3481
MMPXY,4,0,3481
MMPLL,1, 19.357108, 53.289667
MMPLL,2, 19.460240, 53.285892
MMPLL,3, 19.453877, 53.219583
MMPLL,4, 19.350745, 53.223357
MM1B,2.093704
MOP,Map Open Position,0,0
IWH,Map Image Width/Height,3281,3481
