OziExplorer Map Data File Version 2.2
M45-IV
M45-IV.jpg
1 ,Map Code,
Pulkovo 1942 (1),, 0.0000, 0.0000,WGS 84
Reserved 1
Reserved 2
Magnetic Variation,,,E
Map Projection,Transverse Mercator,PolyCal,No,AutoCalOnly,No,BSBUseWPX,No
Point01,xy, 119, 109,in, deg, 52, 0.0000,N, 87, 0.0000,E, grid, , , ,N
Point02,xy, 1133, 111,in, deg, 52, 0.0000,N, 87, 15.0000,E, grid, , , ,N
Point03,xy, 2147, 108,in, deg, 52, 0.0000,N, 87, 30.0000,E, grid, , , ,N
Point04,xy, 3163, 104,in, deg, 52, 0.0000,N, 87, 45.0000,E, grid, , , ,N
Point05,xy, 4182, 95,in, deg, 52, 0.0000,N, 88, 0.0000,E, grid, , , ,N
Point06,xy, 117, 1206,in, deg, 51, 50.0000,N, 87, 0.0000,E, grid, , , ,N
Point07,xy, 4197, 1192,in, deg, 51, 50.0000,N, 88, 0.0000,E, grid, , , ,N
Point08,xy, 116, 2303,in, deg, 51, 40.0000,N, 87, 0.0000,E, grid, , , ,N
Point09,xy, 2161, 2298,in, deg, 51, 40.0000,N, 87, 30.0000,E, grid, , , ,N
Point10,xy, 4209, 2289,in, deg, 51, 40.0000,N, 88, 0.0000,E, grid, , , ,N
Point11,xy, 114, 3400,in, deg, 51, 30.0000,N, 87, 0.0000,E, grid, , , ,N
Point12,xy, 4223, 3382,in, deg, 51, 30.0000,N, 88, 0.0000,E, grid, , , ,N
Point13,xy, 114, 4492,in, deg, 51, 20.0000,N, 87, 0.0000,E, grid, , , ,N
Point14,xy, 1145, 4496,in, deg, 51, 20.0000,N, 87, 15.0000,E, grid, , , ,N
Point15,xy, 2174, 4491,in, deg, 51, 20.0000,N, 87, 30.0000,E, grid, , , ,N
Point16,xy, 3206, 4486,in, deg, 51, 20.0000,N, 87, 45.0000,E, grid, , , ,N
Point17,xy, 4236, 4478,in, deg, 51, 20.0000,N, 88, 0.0000,E, grid, , , ,N
Point18,xy, , ,in, deg, , ,N, , ,W, grid, , , ,N
Point19,xy, , ,in, deg, , ,N, , ,W, grid, , , ,N
Point20,xy, , ,in, deg, , ,N, , ,W, grid, , , ,N
Point21,xy, , ,in, deg, , ,N, , ,W, grid, , , ,N
Point22,xy, , ,in, deg, , ,N, , ,W, grid, , , ,N
Point23,xy, , ,in, deg, , ,N, , ,W, grid, , , ,N
Point24,xy, , ,in, deg, , ,N, , ,W, grid, , , ,N
Point25,xy, , ,in, deg, , ,N, , ,W, grid, , , ,N
Point26,xy, , ,in, deg, , ,N, , ,W, grid, , , ,N
Point27,xy, , ,in, deg, , ,N, , ,W, grid, , , ,N
Point28,xy, , ,in, deg, , ,N, , ,W, grid, , , ,N
Point29,xy, , ,in, deg, , ,N, , ,W, grid, , , ,N
Point30,xy, , ,in, deg, , ,N, , ,W, grid, , , ,N
Projection Setup, 0.000000000, 87.000000000, 1.000000000, 15500000.00, 0.00,,,,,
Map Feature = MF ; Map Comment = MC These follow if they exist
Track File = TF These follow if they exist
Moving Map Parameters = MM? These follow if they exist
MM0,Yes
MMPNUM,4
MMPXY,1,119,109
MMPXY,2,4182,95
MMPXY,3,4236,4478
MMPXY,4,114,4492
MMPLL,1, 87.000000, 52.000000
MMPLL,2, 88.000000, 52.000000
MMPLL,3, 88.000000, 51.333333
MMPLL,4, 87.000000, 51.333533
MM1B,16.896206
MOP,Map Open Position,0,0
IWH,Map Image Width/Height,4388,4652
