OziExplorer Map Data File Version 2.2
M45-XI
M45-XI.jpg
1 ,Map Code,
Pulkovo 1942 (1),, 0.0000, 0.0000,WGS 84
Reserved 1
Reserved 2
Magnetic Variation,,,E
Map Projection,Transverse Mercator,PolyCal,No,AutoCalOnly,No,BSBUseWPX,No
Point01,xy, 134, 115,in, deg, 51, 20.0000,N, 88, 0.0000,E, grid, , , ,N
Point02,xy, 1165, 120,in, deg, 51, 20.0000,N, 88, 15.0000,E, grid, , , ,N
Point03,xy, 2195, 119,in, deg, 51, 20.0000,N, 88, 30.0000,E, grid, , , ,N
Point04,xy, 3227, 117,in, deg, 51, 20.0000,N, 88, 45.0000,E, grid, , , ,N
Point05,xy, 4257, 110,in, deg, 51, 20.0000,N, 89, 0.0000,E, grid, , , ,N
Point06,xy, 130, 1206,in, deg, 51, 10.0000,N, 88, 0.0000,E, grid, , , ,N
Point07,xy, 4269, 1207,in, deg, 51, 10.0000,N, 89, 0.0000,E, grid, , , ,N
Point08,xy, 125, 2302,in, deg, 51, 0.0000,N, 88, 0.0000,E, grid, , , ,N
Point09,xy, 2200, 2306,in, deg, 51, 0.0000,N, 88, 30.0000,E, grid, , , ,N
Point10,xy, 4278, 2304,in, deg, 51, 0.0000,N, 89, 0.0000,E, grid, , , ,N
Point11,xy, 120, 3393,in, deg, 50, 50.0000,N, 88, 0.0000,E, grid, , , ,N
Point12,xy, 4288, 3395,in, deg, 50, 50.0000,N, 89, 0.0000,E, grid, , , ,N
Point13,xy, 115, 4490,in, deg, 50, 40.0000,N, 88, 0.0000,E, grid, , , ,N
Point14,xy, 1158, 4496,in, deg, 50, 40.0000,N, 88, 15.0000,E, grid, , , ,N
Point15,xy, 2203, 4494,in, deg, 50, 40.0000,N, 88, 30.0000,E, grid, , , ,N
Point16,xy, 3250, 4492,in, deg, 50, 40.0000,N, 88, 45.0000,E, grid, , , ,N
Point17,xy, 4297, 4486,in, deg, 50, 40.0000,N, 89, 0.0000,E, grid, , , ,N
Point18,xy, , ,in, deg, , ,N, , ,W, grid, , , ,N
Point19,xy, , ,in, deg, , ,N, , ,W, grid, , , ,N
Point20,xy, , ,in, deg, , ,N, , ,W, grid, , , ,N
Point21,xy, , ,in, deg, , ,N, , ,W, grid, , , ,N
Point22,xy, , ,in, deg, , ,N, , ,W, grid, , , ,N
Point23,xy, , ,in, deg, , ,N, , ,W, grid, , , ,N
Point24,xy, , ,in, deg, , ,N, , ,W, grid, , , ,N
Point25,xy, , ,in, deg, , ,N, , ,W, grid, , , ,N
Point26,xy, , ,in, deg, , ,N, , ,W, grid, , , ,N
Point27,xy, , ,in, deg, , ,N, , ,W, grid, , , ,N
Point28,xy, , ,in, deg, , ,N, , ,W, grid, , , ,N
Point29,xy, , ,in, deg, , ,N, , ,W, grid, , , ,N
Point30,xy, , ,in, deg, , ,N, , ,W, grid, , , ,N
Projection Setup, 0.000000000, 87.000000000, 1.000000000, 15500000.00, 0.00,,,,,
Map Feature = MF ; Map Comment = MC These follow if they exist
Track File = TF These follow if they exist
Moving Map Parameters = MM? These follow if they exist
MM0,Yes
MMPNUM,4
MMPXY,1,134,115
MMPXY,2,4257,110
MMPXY,3,4297,4486
MMPXY,4,115,4490
MMPLL,1, 88.000000, 51.333333
MMPLL,2, 89.000000, 51.333333
MMPLL,3, 89.000000, 50.666667
MMPLL,4, 88.000000, 50.666667
MM1B,16.894743
MOP,Map Open Position,0,0
IWH,Map Image Width/Height,4423,4607
