OziExplorer Map Data File Version 2.2
M45-XVI
M45-XVI.jpg
1 ,Map Code,
Pulkovo 1942 (1),, 0.0000, 0.0000,WGS 84
Reserved 1
Reserved 2
Magnetic Variation,,,E
Map Projection,Transverse Mercator,PolyCal,No,AutoCalOnly,No,BSBUseWPX,No
Point01,xy, 159, 116,in, deg, 50, 40.0000,N, 87, 0.0000,E, grid, , , ,N
Point02,xy, 1203, 124,in, deg, 50, 40.0000,N, 87, 15.0000,E, grid, , , ,N
Point03,xy, 2246, 128,in, deg, 50, 40.0000,N, 87, 30.0000,E, grid, , , ,N
Point04,xy, 3292, 129,in, deg, 50, 40.0000,N, 87, 45.0000,E, grid, , , ,N
Point05,xy, 4336, 125,in, deg, 50, 40.0000,N, 88, 0.0000,E, grid, , , ,N
Point06,xy, 150, 1208,in, deg, 50, 30.0000,N, 87, 0.0000,E, grid, , , ,N
Point07,xy, 4343, 1221,in, deg, 50, 30.0000,N, 88, 0.0000,E, grid, , , ,N
Point08,xy, 142, 2300,in, deg, 50, 20.0000,N, 87, 0.0000,E, grid, , , ,N
Point09,xy, 2244, 2313,in, deg, 50, 20.0000,N, 87, 30.0000,E, grid, , , ,N
Point10,xy, 4349, 2315,in, deg, 50, 20.0000,N, 88, 0.0000,E, grid, , , ,N
Point11,xy, 134, 3393,in, deg, 50, 10.0000,N, 87, 0.0000,E, grid, , , ,N
Point12,xy, 4356, 3404,in, deg, 50, 10.0000,N, 88, 0.0000,E, grid, , , ,N
Point13,xy, 126, 4485,in, deg, 50, 0.0000,N, 87, 0.0000,E, grid, , , ,N
Point14,xy, 1183, 4493,in, deg, 50, 0.0000,N, 87, 15.0000,E, grid, , , ,N
Point15,xy, 2244, 4499,in, deg, 50, 0.0000,N, 87, 30.0000,E, grid, , , ,N
Point16,xy, 3304, 4500,in, deg, 50, 0.0000,N, 87, 45.0000,E, grid, , , ,N
Point17,xy, 4363, 4497,in, deg, 50, 0.0000,N, 88, 0.0000,E, grid, , , ,N
Point18,xy, , ,in, deg, , ,N, , ,W, grid, , , ,N
Point19,xy, , ,in, deg, , ,N, , ,W, grid, , , ,N
Point20,xy, , ,in, deg, , ,N, , ,W, grid, , , ,N
Point21,xy, , ,in, deg, , ,N, , ,W, grid, , , ,N
Point22,xy, , ,in, deg, , ,N, , ,W, grid, , , ,N
Point23,xy, , ,in, deg, , ,N, , ,W, grid, , , ,N
Point24,xy, , ,in, deg, , ,N, , ,W, grid, , , ,N
Point25,xy, , ,in, deg, , ,N, , ,W, grid, , , ,N
Point26,xy, , ,in, deg, , ,N, , ,W, grid, , , ,N
Point27,xy, , ,in, deg, , ,N, , ,W, grid, , , ,N
Point28,xy, , ,in, deg, , ,N, , ,W, grid, , , ,N
Point29,xy, , ,in, deg, , ,N, , ,W, grid, , , ,N
Point30,xy, , ,in, deg, , ,N, , ,W, grid, , , ,N
Projection Setup, 0.000000000, 87.000000000, 1.000000000, 15500000.00, 0.00,,,,,
Map Feature = MF ; Map Comment = MC These follow if they exist
Track File = TF These follow if they exist
Moving Map Parameters = MM? These follow if they exist
MM0,Yes
MMPNUM,4
MMPXY,1,159,116
MMPXY,2,4336,125
MMPXY,3,4363,4497
MMPXY,4,126,4485
MMPLL,1, 87.000000, 50.666667
MMPLL,2, 88.000000, 50.666667
MMPLL,3, 88.000000, 50.000000
MMPLL,4, 87.000000, 50.000000
MM1B,16.914894
MOP,Map Open Position,0,0
IWH,Map Image Width/Height,4504,4640
