OziExplorer Map Data File Version 2.2
M45-XVII
M45-XVII.jpg
1 ,Map Code,
Pulkovo 1942 (1),, 0.0000, 0.0000,WGS 84
Reserved 1
Reserved 2
Magnetic Variation,,,E
Map Projection,Transverse Mercator,PolyCal,No,AutoCalOnly,No,BSBUseWPX,No
Point01,xy, 135, 138,in, deg, 50, 40.0000,N, 88, 0.0000,E, grid, , , ,N
Point02,xy, 1183, 143,in, deg, 50, 40.0000,N, 88, 15.0000,E, grid, , , ,N
Point03,xy, 2227, 145,in, deg, 50, 40.0000,N, 88, 30.0000,E, grid, , , ,N
Point04,xy, 3270, 140,in, deg, 50, 40.0000,N, 88, 45.0000,E, grid, , , ,N
Point05,xy, 4317, 134,in, deg, 50, 40.0000,N, 89, 0.0000,E, grid, , , ,N
Point06,xy, 130, 1231,in, deg, 50, 30.0000,N, 88, 0.0000,E, grid, , , ,N
Point07,xy, 4329, 1230,in, deg, 50, 30.0000,N, 89, 0.0000,E, grid, , , ,N
Point08,xy, 124, 2323,in, deg, 50, 20.0000,N, 88, 0.0000,E, grid, , , ,N
Point09,xy, 2230, 2331,in, deg, 50, 20.0000,N, 88, 30.0000,E, grid, , , ,N
Point10,xy, 4338, 2326,in, deg, 50, 20.0000,N, 89, 0.0000,E, grid, , , ,N
Point11,xy, 117, 3416,in, deg, 50, 10.0000,N, 88, 0.0000,E, grid, , , ,N
Point12,xy, 4348, 3419,in, deg, 50, 10.0000,N, 89, 0.0000,E, grid, , , ,N
Point13,xy, 112, 4510,in, deg, 50, 0.0000,N, 88, 0.0000,E, grid, , , ,N
Point14,xy, 1171, 4516,in, deg, 50, 0.0000,N, 88, 15.0000,E, grid, , , ,N
Point15,xy, 2233, 4518,in, deg, 50, 0.0000,N, 88, 30.0000,E, grid, , , ,N
Point16,xy, 3296, 4515,in, deg, 50, 0.0000,N, 88, 45.0000,E, grid, , , ,N
Point17,xy, 4356, 4510,in, deg, 50, 0.0000,N, 89, 0.0000,E, grid, , , ,N
Point18,xy, , ,in, deg, , ,N, , ,W, grid, , , ,N
Point19,xy, , ,in, deg, , ,N, , ,W, grid, , , ,N
Point20,xy, , ,in, deg, , ,N, , ,W, grid, , , ,N
Point21,xy, , ,in, deg, , ,N, , ,W, grid, , , ,N
Point22,xy, , ,in, deg, , ,N, , ,W, grid, , , ,N
Point23,xy, , ,in, deg, , ,N, , ,W, grid, , , ,N
Point24,xy, , ,in, deg, , ,N, , ,W, grid, , , ,N
Point25,xy, , ,in, deg, , ,N, , ,W, grid, , , ,N
Point26,xy, , ,in, deg, , ,N, , ,W, grid, , , ,N
Point27,xy, , ,in, deg, , ,N, , ,W, grid, , , ,N
Point28,xy, , ,in, deg, , ,N, , ,W, grid, , , ,N
Point29,xy, , ,in, deg, , ,N, , ,W, grid, , , ,N
Point30,xy, , ,in, deg, , ,N, , ,W, grid, , , ,N
Projection Setup, 0.000000000, 87.000000000, 1.000000000, 15500000.00, 0.00,,,,,
Map Feature = MF ; Map Comment = MC These follow if they exist
Track File = TF These follow if they exist
Moving Map Parameters = MM? These follow if they exist
MM0,Yes
MMPNUM,4
MMPXY,1,135,138
MMPXY,2,4317,134
MMPXY,3,4356,4510
MMPXY,4,112,4510
MMPLL,1, 88.000000, 50.666667
MMPLL,2, 89.000000, 50.666667
MMPLL,3, 89.000000, 50.000000
MMPLL,4, 88.000000, 50.000000
MM1B,16.888742
MOP,Map Open Position,0,0
IWH,Map Image Width/Height,4496,4676
